Workbook

Sheet Intructivo
B2: Matriz Mapa de Riesgos
B4: Teniendo en cuenta que con la expedición del Decreto 1499 de 2017 “Por medio del cual se modifica el Decreto 1083 de 2015, Decreto Único Reglamentario del Sector Función Pública, en lo relacionado con el Sistema de Gestión establecido en el artículo 133 de la Ley 1753 de 2015”, se crea un solo Sistema de Gestión y se alinea con el Sistema de Control Interno, hoy todas las entidades públicas requieren actualizar y/o implementar el Modelo Integrado de Planeación y Gestión MIPG, modelo que incorpora el Modelo Estándar de Control Interno MECI a través de la 7a dimensión del mismo. En este marco general, el proceso de administración del riesgo es un esfuerzo conjunto entre la Alta Dirección y los servidores en todos sus niveles, ejercicio que inicia con la formulación de la política de Administración del Riesgo, la cual incluye los niveles de responsabilidad frente al seguimiento y evaluación, aspectos que deberán definirse acorde con el Esquema de Líneas de Defensa vinculado a la Dimensión 7. Teniendo en cuenta lo anterior y dada la necesidad de las entidades frente a la estructuración de los mapas de riesgos, como herramienta fundamental frente a la gestión del riesgo, el presente formato desarrolla un esquema completo acorde con los contenidos metodológicos de la Guía para la Administración del Riesgo y el diseño de controles V5. El formato cuenta con celdas parametrizadas y permite contar con los respectivos mapas de calor para riesgo inherente y riesgo residual.
B6: Orientaciones Generales
B7: Antes de iniciar con el diligenciamiento de la información en la matriz, se requiere haber avanzado en el análisis del proceso, su objetivo, alcance, actividades clave, considere los lineamientos establecidos en el Paso 2: identificación del riesgo, donde se explica ampliamente las bases para adelanter este análisis. Así mismo, considere en el Paso 3: valoración del riesgo los lineamientos para definir el No. de veces que se hace la actividad con la cual se relaciona el riesgo y su impacto en términos económicos o reputacionales. En este mismo paso se analizan los controles que deben responder a los atributos de eficiencia e informativos. NOTA: Si lo considera pertinente, es posible agregar hojas de trabajo adicionales al presente formato que permitan incluir la traza de estos análisis.
B9: El archivo contiene las siguientes hojas: - Hoja 1 Instructivo - Hoja 2 Mapa Final: Encontrará la totalidad de la estructura para la identificación y valoración de los riesgos por proceso, programa o proyecto, acorde con el nivel de desagregación que la entidad considere necesaria.
C12: Columna | E12: Descripción - Lineamientos para el diligenciamiento
C13: Proceso | E13: Diligencie el nombre del proceso al cual se le identificarán y valorarán los riesgos.
C14: Objetivo | E14: Diligencie el objetivo del proceso.
C15: Alcance | E15: Diligencie el alcance del proceso.
C16: Referencia | E16: Permite definir unl consecutivo de riesgos. Una entidad puede ir en el riesgo 150, pero tener 70 riesgos, lo que permite llevar una traza de los riesgos. Esta información la debe administrar la oficina asesora de planeación o gerencia de riesgos. Cuando un el riesgo salga del mapa no existirá otro riesgo con el mismo número.
C17: Impacto | E17: Analice las consecuencias que puede ocasionar a la organización la materialización del riesgo, redacte de la forma más concreta posible.
C18: Causa Inmediata | E18: Circunstancias bajo las cuales se presenta el riesgo, es la situación más evidente frente al riesgo, redacte de la forma más concreta posible.
C19: Causa Raíz | E19: Causa principal o básica, corresponde a las razones por la cuales se puede presentar el riesgo, redacte de la forma más concreta posible.
C20: Descripción del Riesgo | E20: Consolida o resume los análisis sobre impacto + causa inmediata + causa raíz, permitiendo contar con una redacción clara y concreta del riesgo indentificado. Tenga en cuenta la estructura de alto nivel establecida en al guía, inicia con POSIBILIDAD DE + Impacto para la entidad (Qué) + Causa Inmediata (Cómo) + Causa Raíz (Por qué)
C21: Clasificación del Riesgo | E21: Utilice la lista de despligue que se encuentra parametrizada, le aparecerán las opciones: i)Daños Activos Fisicos, ii)Ejecucion y Administracion de procesos, iii)Fallas Tecnologicas, iv)Fraude Externo, v)Fraude Interno, vi)Relaciones Laborales, vii)Usuarios, productos y practicas organizacionales.
C22: Frecuencia con la cual se lleva a cabo la actividad | E22: Defina el # de veces que se ejecuta la actividad durante el año, (Recuerde la probabilidad e ocurrencia del riesgo se defien como el No. de veces que se pasa por el punto de riesgo en el periodo de 1 año). La matriz automáticamente hará el cálculo para el nivel de probabilidad inherente (Columnas H-I)
C23: Criterios de Impacto | E23: Utilice la lista de despligue que se encuentra parametrizada, le aparecerán las opciones de la tabla de Impacto en la Hoja 6 del presente documento. La matriz automáticamente hará el cálculo para el nivel de impacto inherente (Columnas L-M)
... C37: Estado | E37: Utilice la lista de despligue que se encuentra parametrizada, le aparecerán las opciones: i)Finalizado, ii)En curso, la selección en este caso dependerá de las acciones del plan que se hayan establecido en cada caso.
B40: - Hoja 3 Matriz de Calor Inherente: En esta hoja, en la medida en que ese diligencia el Mapa Final, se verán reflejados los riesgos en su zona correspondiente. Esta hoja no se diligencia se genera de manera automática.
B41: - Hoja 4 Matriz de Calor Residual: En esta hoja, en la medida en que ese diligencia el Mapa Final, se verán reflejados los riesgos en su zona correspondiente. Esta hoja no se diligencia se genera de manera automática.
B42: - Hoja 5 Tabla de probabilidad: Tabla referente para todos los cálculos (no se diligencia)
B43: - Hoja 6 Tabla de Impacto: Tabla referente para todos los cálculos (no se diligencia)
B44: - Hoja 7 Tabla de Valoración de Controles: Tabla referente para todos los cálculos (no se diligencia)

Sheet Matriz Calor Residual
B2: Matriz de Calor Residual | J2: Impacto
B6: Probabilidad | E6: Muy Alta 100% | J6: =IF(AND('Mapa final'!$AB$7="Muy Alta",'Mapa final'!$AD$7="Leve"),CONCATENATE("R1C",'Mapa final'!$R$7),"") | K6: =IF(AND('Mapa final'!$AB$8="Muy Alta",'Mapa final'!$AD$8="Leve"),CONCATENATE("R1C",'Mapa final'!$R$8),"") | L6: =IF(AND('Mapa final'!$AB$9="Muy Alta",'Mapa final'!$AD$9="Leve"),CONCATENATE("R1C",'Mapa final'!$R$9),"") | M6: =IF(AND('Mapa final'!$AB$7="Muy Alta",'Mapa final'!$AD$7="Menor"),CONCATENATE("R1C",'Mapa final'!$R$7),"") | N6: =IF(AND('Mapa final'!$AB$8="Muy Alta",'Mapa final'!$AD$8="Menor"),CONCATENATE("R1C",'Mapa final'!$R$8),"") | O6: =IF(AND('Mapa final'!$AB$9="Muy Alta",'Mapa final'!$AD$9="Menor"),CONCATENATE("R1C",'Mapa final'!$R$9),"") | P6: =IF(AND('Mapa final'!$AB$7="Muy Alta",'Mapa final'!$AD$7="Moderado"),CONCATENATE("R1C",'Mapa final'!$R$7),"") | Q6: =IF(AND('Mapa final'!$AB$8="Muy Alta",'Mapa final'!$AD$8="Moderado"),CONCATENATE("R1C",'Mapa final'!$R$8),"") | R6: =IF(AND('Mapa final'!$AB$9="Muy Alta",'Mapa final'!$AD$9="Moderado"),CONCATENATE("R1C",'Mapa final'!$R$9),"") | S6: =IF(AND('Mapa final'!$AB$7="Muy Alta",'Mapa final'!$AD$7="Mayor"),CONCATENATE("R1C",'Mapa final'!$R$7),"") | T6: =IF(AND('Mapa final'!$AB$8="Muy Alta",'Mapa final'!$AD$8="Mayor"),CONCATENATE("R1C",'Mapa final'!$R$8),"") | U6: =IF(AND('Mapa final'!$AB$9="Muy Alta",'Mapa final'!$AD$9="Mayor"),CONCATENATE("R1C",'Mapa final'!$R$9),"") | V6: =IF(AND('Mapa final'!$AB$7="Muy Alta",'Mapa final'!$AD$7="Catastrófico"),CONCATENATE("R1C",'Mapa final'!$R$7),"") | W6: =IF(AND('Mapa final'!$AB$8="Muy Alta",'Mapa final'!$AD$8="Catastrófico"),CONCATENATE("R1C",'Mapa final'!$R$8),"") | X6: =IF(AND('Mapa final'!$AB$9="Muy Alta",'Mapa final'!$AD$9="Catastrófico"),CONCATENATE("R1C",'Mapa final'!$R$9),"") | Z6: Extremo
J7: =IF(AND('Mapa final'!$AB$10="Muy Alta",'Mapa final'!$AD$10="Leve"),CONCATENATE("R2C",'Mapa final'!$R$10),"") | K7: =IF(AND('Mapa final'!$AB$11="Muy Alta",'Mapa final'!$AD$11="Leve"),CONCATENATE("R2C",'Mapa final'!$R$11),"") | L7: =IF(AND('Mapa final'!$AB$12="Muy Alta",'Mapa final'!$AD$12="Leve"),CONCATENATE("R2C",'Mapa final'!$R$12),"") | M7: =IF(AND('Mapa final'!$AB$10="Muy Alta",'Mapa final'!$AD$10="Menor"),CONCATENATE("R2C",'Mapa final'!$R$10),"") | N7: =IF(AND('Mapa final'!$AB$11="Muy Alta",'Mapa final'!$AD$11="Menor"),CONCATENATE("R2C",'Mapa final'!$R$11),"") | O7: =IF(AND('Mapa final'!$AB$12="Muy Alta",'Mapa final'!$AD$12="Menor"),CONCATENATE("R2C",'Mapa final'!$R$12),"") | P7: =IF(AND('Mapa final'!$AB$10="Muy Alta",'Mapa final'!$AD$10="Moderado"),CONCATENATE("R2C",'Mapa final'!$R$10),"") | Q7: =IF(AND('Mapa final'!$AB$11="Muy Alta",'Mapa final'!$AD$11="Moderado"),CONCATENATE("R2C",'Mapa final'!$R$11),"") | R7: =IF(AND('Mapa final'!$AB$12="Muy Alta",'Mapa final'!$AD$12="Moderado"),CONCATENATE("R2C",'Mapa final'!$R$12),"") | S7: =IF(AND('Mapa final'!$AB$10="Muy Alta",'Mapa final'!$AD$10="Mayor"),CONCATENATE("R2C",'Mapa final'!$R$10),"") | T7: =IF(AND('Mapa final'!$AB$11="Muy Alta",'Mapa final'!$AD$11="Mayor"),CONCATENATE("R2C",'Mapa final'!$R$11),"") | U7: =IF(AND('Mapa final'!$AB$12="Muy Alta",'Mapa final'!$AD$12="Mayor"),CONCATENATE("R2C",'Mapa final'!$R$12),"") | V7: =IF(AND('Mapa final'!$AB$10="Muy Alta",'Mapa final'!$AD$10="Catastrófico"),CONCATENATE("R2C",'Mapa final'!$R$10),"") | W7: =IF(AND('Mapa final'!$AB$11="Muy Alta",'Mapa final'!$AD$11="Catastrófico"),CONCATENATE("R2C",'Mapa final'!$R$11),"") | X7: =IF(AND('Mapa final'!$AB$12="Muy Alta",'Mapa final'!$AD$12="Catastrófico"),CONCATENATE("R2C",'Mapa final'!$R$12),"")
J8: =IF(AND('Mapa final'!$AB$13="Muy Alta",'Mapa final'!$AD$13="Leve"),CONCATENATE("R3C",'Mapa final'!$R$13),"") | K8: =IF(AND('Mapa final'!$AB$14="Muy Alta",'Mapa final'!$AD$14="Leve"),CONCATENATE("R3C",'Mapa final'!$R$14),"") | L8: =IF(AND('Mapa final'!$AB$15="Muy Alta",'Mapa final'!$AD$15="Leve"),CONCATENATE("R3C",'Mapa final'!$R$15),"") | M8: =IF(AND('Mapa final'!$AB$13="Muy Alta",'Mapa final'!$AD$13="Menor"),CONCATENATE("R3C",'Mapa final'!$R$13),"") | N8: =IF(AND('Mapa final'!$AB$14="Muy Alta",'Mapa final'!$AD$14="Menor"),CONCATENATE("R3C",'Mapa final'!$R$14),"") | O8: =IF(AND('Mapa final'!$AB$15="Muy Alta",'Mapa final'!$AD$15="Menor"),CONCATENATE("R3C",'Mapa final'!$R$15),"") | P8: =IF(AND('Mapa final'!$AB$13="Muy Alta",'Mapa final'!$AD$13="Moderado"),CONCATENATE("R3C",'Mapa final'!$R$13),"") | Q8: =IF(AND('Mapa final'!$AB$14="Muy Alta",'Mapa final'!$AD$14="Moderado"),CONCATENATE("R3C",'Mapa final'!$R$14),"") | R8: =IF(AND('Mapa final'!$AB$15="Muy Alta",'Mapa final'!$AD$15="Moderado"),CONCATENATE("R3C",'Mapa final'!$R$15),"") | S8: =IF(AND('Mapa final'!$AB$13="Muy Alta",'Mapa final'!$AD$13="Mayor"),CONCATENATE("R3C",'Mapa final'!$R$13),"") | T8: =IF(AND('Mapa final'!$AB$14="Muy Alta",'Mapa final'!$AD$14="Mayor"),CONCATENATE("R3C",'Mapa final'!$R$14),"") | U8: =IF(AND('Mapa final'!$AB$15="Muy Alta",'Mapa final'!$AD$15="Mayor"),CONCATENATE("R3C",'Mapa final'!$R$15),"") | V8: =IF(AND('Mapa final'!$AB$13="Muy Alta",'Mapa final'!$AD$13="Catastrófico"),CONCATENATE("R3C",'Mapa final'!$R$13),"") | W8: =IF(AND('Mapa final'!$AB$14="Muy Alta",'Mapa final'!$AD$14="Catastrófico"),CONCATENATE("R3C",'Mapa final'!$R$14),"") | X8: =IF(AND('Mapa final'!$AB$15="Muy Alta",'Mapa final'!$AD$15="Catastrófico"),CONCATENATE("R3C",'Mapa final'!$R$15),"")
J9: =IF(AND('Mapa final'!$AB$16="Muy Alta",'Mapa final'!$AD$16="Leve"),CONCATENATE("R4C",'Mapa final'!$R$16),"") | K9: =IF(AND('Mapa final'!$AB$17="Muy Alta",'Mapa final'!$AD$17="Leve"),CONCATENATE("R4C",'Mapa final'!$R$17),"") | L9: =IF(AND('Mapa final'!$AB$18="Muy Alta",'Mapa final'!$AD$18="Leve"),CONCATENATE("R4C",'Mapa final'!$R$18),"") | M9: =IF(AND('Mapa final'!$AB$16="Muy Alta",'Mapa final'!$AD$16="Menor"),CONCATENATE("R4C",'Mapa final'!$R$16),"") | N9: =IF(AND('Mapa final'!$AB$17="Muy Alta",'Mapa final'!$AD$17="Menor"),CONCATENATE("R4C",'Mapa final'!$R$17),"") | O9: =IF(AND('Mapa final'!$AB$18="Muy Alta",'Mapa final'!$AD$18="Menor"),CONCATENATE("R4C",'Mapa final'!$R$18),"") | P9: =IF(AND('Mapa final'!$AB$16="Muy Alta",'Mapa final'!$AD$16="Moderado"),CONCATENATE("R4C",'Mapa final'!$R$16),"") | Q9: =IF(AND('Mapa final'!$AB$17="Muy Alta",'Mapa final'!$AD$17="Moderado"),CONCATENATE("R4C",'Mapa final'!$R$17),"") | R9: =IF(AND('Mapa final'!$AB$18="Muy Alta",'Mapa final'!$AD$18="Moderado"),CONCATENATE("R4C",'Mapa final'!$R$18),"") | S9: =IF(AND('Mapa final'!$AB$16="Muy Alta",'Mapa final'!$AD$16="Mayor"),CONCATENATE("R4C",'Mapa final'!$R$16),"") | T9: =IF(AND('Mapa final'!$AB$17="Muy Alta",'Mapa final'!$AD$17="Mayor"),CONCATENATE("R4C",'Mapa final'!$R$17),"") | U9: =IF(AND('Mapa final'!$AB$18="Muy Alta",'Mapa final'!$AD$18="Mayor"),CONCATENATE("R4C",'Mapa final'!$R$18),"") | V9: =IF(AND('Mapa final'!$AB$16="Muy Alta",'Mapa final'!$AD$16="Catastrófico"),CONCATENATE("R4C",'Mapa final'!$R$16),"") | W9: =IF(AND('Mapa final'!$AB$17="Muy Alta",'Mapa final'!$AD$17="Catastrófico"),CONCATENATE("R4C",'Mapa final'!$R$17),"") | X9: =IF(AND('Mapa final'!$AB$18="Muy Alta",'Mapa final'!$AD$18="Catastrófico"),CONCATENATE("R4C",'Mapa final'!$R$18),"")
J10: =IF(AND('Mapa final'!$AB$19="Muy Alta",'Mapa final'!$AD$19="Leve"),CONCATENATE("R5C",'Mapa final'!$R$19),"") | K10: =IF(AND('Mapa final'!$AB$20="Muy Alta",'Mapa final'!$AD$20="Leve"),CONCATENATE("R5C",'Mapa final'!$R$20),"") | L10: =IF(AND('Mapa final'!$AB$21="Muy Alta",'Mapa final'!$AD$21="Leve"),CONCATENATE("R5C",'Mapa final'!$R$21),"") | M10: =IF(AND('Mapa final'!$AB$19="Muy Alta",'Mapa final'!$AD$19="Menor"),CONCATENATE("R5C",'Mapa final'!$R$19),"") | N10: =IF(AND('Mapa final'!$AB$20="Muy Alta",'Mapa final'!$AD$20="Menor"),CONCATENATE("R5C",'Mapa final'!$R$20),"") | O10: =IF(AND('Mapa final'!$AB$21="Muy Alta",'Mapa final'!$AD$21="Menor"),CONCATENATE("R5C",'Mapa final'!$R$21),"") | P10: =IF(AND('Mapa final'!$AB$19="Muy Alta",'Mapa final'!$AD$19="Moderado"),CONCATENATE("R5C",'Mapa final'!$R$19),"") | Q10: =IF(AND('Mapa final'!$AB$20="Muy Alta",'Mapa final'!$AD$20="Moderado"),CONCATENATE("R5C",'Mapa final'!$R$20),"") | R10: =IF(AND('Mapa final'!$AB$21="Muy Alta",'Mapa final'!$AD$21="Moderado"),CONCATENATE("R5C",'Mapa final'!$R$21),"") | S10: =IF(AND('Mapa final'!$AB$19="Muy Alta",'Mapa final'!$AD$19="Mayor"),CONCATENATE("R5C",'Mapa final'!$R$19),"") | T10: =IF(AND('Mapa final'!$AB$20="Muy Alta",'Mapa final'!$AD$20="Mayor"),CONCATENATE("R5C",'Mapa final'!$R$20),"") | U10: =IF(AND('Mapa final'!$AB$21="Muy Alta",'Mapa final'!$AD$21="Mayor"),CONCATENATE("R5C",'Mapa final'!$R$21),"") | V10: =IF(AND('Mapa final'!$AB$19="Muy Alta",'Mapa final'!$AD$19="Catastrófico"),CONCATENATE("R5C",'Mapa final'!$R$19),"") | W10: =IF(AND('Mapa final'!$AB$20="Muy Alta",'Mapa final'!$AD$20="Catastrófico"),CONCATENATE("R5C",'Mapa final'!$R$20),"") | X10: =IF(AND('Mapa final'!$AB$21="Muy Alta",'Mapa final'!$AD$21="Catastrófico"),CONCATENATE("R5C",'Mapa final'!$R$21),"")
J11: =IF(AND('Mapa final'!$AB$22="Muy Alta",'Mapa final'!$AD$22="Leve"),CONCATENATE("R6C",'Mapa final'!$R$22),"") | K11: =IF(AND('Mapa final'!$AB$23="Muy Alta",'Mapa final'!$AD$23="Leve"),CONCATENATE("R6C",'Mapa final'!$R$23),"") | L11: =IF(AND('Mapa final'!$AB$24="Muy Alta",'Mapa final'!$AD$24="Leve"),CONCATENATE("R6C",'Mapa final'!$R$24),"") | M11: =IF(AND('Mapa final'!$AB$22="Muy Alta",'Mapa final'!$AD$22="Menor"),CONCATENATE("R6C",'Mapa final'!$R$22),"") | N11: =IF(AND('Mapa final'!$AB$23="Muy Alta",'Mapa final'!$AD$23="Menor"),CONCATENATE("R6C",'Mapa final'!$R$23),"") | O11: =IF(AND('Mapa final'!$AB$24="Muy Alta",'Mapa final'!$AD$24="Menor"),CONCATENATE("R6C",'Mapa final'!$R$24),"") | P11: =IF(AND('Mapa final'!$AB$22="Muy Alta",'Mapa final'!$AD$22="Moderado"),CONCATENATE("R6C",'Mapa final'!$R$22),"") | Q11: =IF(AND('Mapa final'!$AB$23="Muy Alta",'Mapa final'!$AD$23="Moderado"),CONCATENATE("R6C",'Mapa final'!$R$23),"") | R11: =IF(AND('Mapa final'!$AB$24="Muy Alta",'Mapa final'!$AD$24="Moderado"),CONCATENATE("R6C",'Mapa final'!$R$24),"") | S11: =IF(AND('Mapa final'!$AB$22="Muy Alta",'Mapa final'!$AD$22="Mayor"),CONCATENATE("R6C",'Mapa final'!$R$22),"") | T11: =IF(AND('Mapa final'!$AB$23="Muy Alta",'Mapa final'!$AD$23="Mayor"),CONCATENATE("R6C",'Mapa final'!$R$23),"") | U11: =IF(AND('Mapa final'!$AB$24="Muy Alta",'Mapa final'!$AD$24="Mayor"),CONCATENATE("R6C",'Mapa final'!$R$24),"") | V11: =IF(AND('Mapa final'!$AB$22="Muy Alta",'Mapa final'!$AD$22="Catastrófico"),CONCATENATE("R6C",'Mapa final'!$R$22),"") | W11: =IF(AND('Mapa final'!$AB$23="Muy Alta",'Mapa final'!$AD$23="Catastrófico"),CONCATENATE("R6C",'Mapa final'!$R$23),"") | X11: =IF(AND('Mapa final'!$AB$24="Muy Alta",'Mapa final'!$AD$24="Catastrófico"),CONCATENATE("R6C",'Mapa final'!$R$24),"")
J12: =IF(AND('Mapa final'!$AB$25="Muy Alta",'Mapa final'!$AD$25="Leve"),CONCATENATE("R7C",'Mapa final'!$R$25),"") | K12: =IF(AND('Mapa final'!$AB$26="Muy Alta",'Mapa final'!$AD$26="Leve"),CONCATENATE("R7C",'Mapa final'!$R$26),"") | L12: =IF(AND('Mapa final'!$AB$27="Muy Alta",'Mapa final'!$AD$27="Leve"),CONCATENATE("R7C",'Mapa final'!$R$27),"") | M12: =IF(AND('Mapa final'!$AB$25="Muy Alta",'Mapa final'!$AD$25="Menor"),CONCATENATE("R7C",'Mapa final'!$R$25),"") | N12: =IF(AND('Mapa final'!$AB$26="Muy Alta",'Mapa final'!$AD$26="Menor"),CONCATENATE("R7C",'Mapa final'!$R$26),"") | O12: =IF(AND('Mapa final'!$AB$27="Muy Alta",'Mapa final'!$AD$27="Menor"),CONCATENATE("R7C",'Mapa final'!$R$27),"") | P12: =IF(AND('Mapa final'!$AB$25="Muy Alta",'Mapa final'!$AD$25="Moderado"),CONCATENATE("R7C",'Mapa final'!$R$25),"") | Q12: =IF(AND('Mapa final'!$AB$26="Muy Alta",'Mapa final'!$AD$26="Moderado"),CONCATENATE("R7C",'Mapa final'!$R$26),"") | R12: =IF(AND('Mapa final'!$AB$27="Muy Alta",'Mapa final'!$AD$27="Moderado"),CONCATENATE("R7C",'Mapa final'!$R$27),"") | S12: =IF(AND('Mapa final'!$AB$25="Muy Alta",'Mapa final'!$AD$25="Mayor"),CONCATENATE("R7C",'Mapa final'!$R$25),"") | T12: =IF(AND('Mapa final'!$AB$26="Muy Alta",'Mapa final'!$AD$26="Mayor"),CONCATENATE("R7C",'Mapa final'!$R$26),"") | U12: =IF(AND('Mapa final'!$AB$27="Muy Alta",'Mapa final'!$AD$27="Mayor"),CONCATENATE("R7C",'Mapa final'!$R$27),"") | V12: =IF(AND('Mapa final'!$AB$25="Muy Alta",'Mapa final'!$AD$25="Catastrófico"),CONCATENATE("R7C",'Mapa final'!$R$25),"") | W12: =IF(AND('Mapa final'!$AB$26="Muy Alta",'Mapa final'!$AD$26="Catastrófico"),CONCATENATE("R7C",'Mapa final'!$R$26),"") | X12: =IF(AND('Mapa final'!$AB$27="Muy Alta",'Mapa final'!$AD$27="Catastrófico"),CONCATENATE("R7C",'Mapa final'!$R$27),"")
J13: =IF(AND('Mapa final'!$AB$28="Muy Alta",'Mapa final'!$AD$28="Leve"),CONCATENATE("R8C",'Mapa final'!$R$28),"") | K13: =IF(AND('Mapa final'!$AB$29="Muy Alta",'Mapa final'!$AD$29="Leve"),CONCATENATE("R8C",'Mapa final'!$R$29),"") | L13: =IF(AND('Mapa final'!$AB$30="Muy Alta",'Mapa final'!$AD$30="Leve"),CONCATENATE("R8C",'Mapa final'!$R$30),"") | M13: =IF(AND('Mapa final'!$AB$28="Muy Alta",'Mapa final'!$AD$28="Menor"),CONCATENATE("R8C",'Mapa final'!$R$28),"") | N13: =IF(AND('Mapa final'!$AB$29="Muy Alta",'Mapa final'!$AD$29="Menor"),CONCATENATE("R8C",'Mapa final'!$R$29),"") | O13: =IF(AND('Mapa final'!$AB$30="Muy Alta",'Mapa final'!$AD$30="Menor"),CONCATENATE("R8C",'Mapa final'!$R$30),"") | P13: =IF(AND('Mapa final'!$AB$28="Muy Alta",'Mapa final'!$AD$28="Moderado"),CONCATENATE("R8C",'Mapa final'!$R$28),"") | Q13: =IF(AND('Mapa final'!$AB$29="Muy Alta",'Mapa final'!$AD$29="Moderado"),CONCATENATE("R8C",'Mapa final'!$R$29),"") | R13: =IF(AND('Mapa final'!$AB$30="Muy Alta",'Mapa final'!$AD$30="Moderado"),CONCATENATE("R8C",'Mapa final'!$R$30),"") | S13: =IF(AND('Mapa final'!$AB$28="Muy Alta",'Mapa final'!$AD$28="Mayor"),CONCATENATE("R8C",'Mapa final'!$R$28),"") | T13: =IF(AND('Mapa final'!$AB$29="Muy Alta",'Mapa final'!$AD$29="Mayor"),CONCATENATE("R8C",'Mapa final'!$R$29),"") | U13: =IF(AND('Mapa final'!$AB$30="Muy Alta",'Mapa final'!$AD$30="Mayor"),CONCATENATE("R8C",'Mapa final'!$R$30),"") | V13: =IF(AND('Mapa final'!$AB$28="Muy Alta",'Mapa final'!$AD$28="Catastrófico"),CONCATENATE("R8C",'Mapa final'!$R$28),"") | W13: =IF(AND('Mapa final'!$AB$29="Muy Alta",'Mapa final'!$AD$29="Catastrófico"),CONCATENATE("R8C",'Mapa final'!$R$29),"") | X13: =IF(AND('Mapa final'!$AB$30="Muy Alta",'Mapa final'!$AD$30="Catastrófico"),CONCATENATE("R8C",'Mapa final'!$R$30),"")
J14: =IF(AND('Mapa final'!$AB$31="Muy Alta",'Mapa final'!$AD$31="Leve"),CONCATENATE("R9C",'Mapa final'!$R$31),"") | K14: =IF(AND('Mapa final'!$AB$32="Muy Alta",'Mapa final'!$AD$32="Leve"),CONCATENATE("R9C",'Mapa final'!$R$32),"") | L14: =IF(AND('Mapa final'!$AB$33="Muy Alta",'Mapa final'!$AD$33="Leve"),CONCATENATE("R9C",'Mapa final'!$R$33),"") | M14: =IF(AND('Mapa final'!$AB$31="Muy Alta",'Mapa final'!$AD$31="Menor"),CONCATENATE("R9C",'Mapa final'!$R$31),"") | N14: =IF(AND('Mapa final'!$AB$32="Muy Alta",'Mapa final'!$AD$32="Menor"),CONCATENATE("R9C",'Mapa final'!$R$32),"") | O14: =IF(AND('Mapa final'!$AB$33="Muy Alta",'Mapa final'!$AD$33="Menor"),CONCATENATE("R9C",'Mapa final'!$R$33),"") | P14: =IF(AND('Mapa final'!$AB$31="Muy Alta",'Mapa final'!$AD$31="Moderado"),CONCATENATE("R9C",'Mapa final'!$R$31),"") | Q14: =IF(AND('Mapa final'!$AB$32="Muy Alta",'Mapa final'!$AD$32="Moderado"),CONCATENATE("R9C",'Mapa final'!$R$32),"") | R14: =IF(AND('Mapa final'!$AB$33="Muy Alta",'Mapa final'!$AD$33="Moderado"),CONCATENATE("R9C",'Mapa final'!$R$33),"") | S14: =IF(AND('Mapa final'!$AB$31="Muy Alta",'Mapa final'!$AD$31="Mayor"),CONCATENATE("R9C",'Mapa final'!$R$31),"") | T14: =IF(AND('Mapa final'!$AB$32="Muy Alta",'Mapa final'!$AD$32="Mayor"),CONCATENATE("R9C",'Mapa final'!$R$32),"") | U14: =IF(AND('Mapa final'!$AB$33="Muy Alta",'Mapa final'!$AD$33="Mayor"),CONCATENATE("R9C",'Mapa final'!$R$33),"") | V14: =IF(AND('Mapa final'!$AB$31="Muy Alta",'Mapa final'!$AD$31="Catastrófico"),CONCATENATE("R9C",'Mapa final'!$R$31),"") | W14: =IF(AND('Mapa final'!$AB$32="Muy Alta",'Mapa final'!$AD$32="Catastrófico"),CONCATENATE("R9C",'Mapa final'!$R$32),"") | X14: =IF(AND('Mapa final'!$AB$33="Muy Alta",'Mapa final'!$AD$33="Catastrófico"),CONCATENATE("R9C",'Mapa final'!$R$33),"")
J15: =IF(AND('Mapa final'!$AB$34="Muy Alta",'Mapa final'!$AD$34="Leve"),CONCATENATE("R10C",'Mapa final'!$R$34),"") | K15: =IF(AND('Mapa final'!$AB$35="Muy Alta",'Mapa final'!$AD$35="Leve"),CONCATENATE("R10C",'Mapa final'!$R$35),"") | L15: =IF(AND('Mapa final'!$AB$36="Muy Alta",'Mapa final'!$AD$36="Leve"),CONCATENATE("R10C",'Mapa final'!$R$36),"") | M15: =IF(AND('Mapa final'!$AB$34="Muy Alta",'Mapa final'!$AD$34="Menor"),CONCATENATE("R10C",'Mapa final'!$R$34),"") | N15: =IF(AND('Mapa final'!$AB$35="Muy Alta",'Mapa final'!$AD$35="Menor"),CONCATENATE("R10C",'Mapa final'!$R$35),"") | O15: =IF(AND('Mapa final'!$AB$36="Muy Alta",'Mapa final'!$AD$36="Menor"),CONCATENATE("R10C",'Mapa final'!$R$36),"") | P15: =IF(AND('Mapa final'!$AB$34="Muy Alta",'Mapa final'!$AD$34="Moderado"),CONCATENATE("R10C",'Mapa final'!$R$34),"") | Q15: =IF(AND('Mapa final'!$AB$35="Muy Alta",'Mapa final'!$AD$35="Moderado"),CONCATENATE("R10C",'Mapa final'!$R$35),"") | R15: =IF(AND('Mapa final'!$AB$36="Muy Alta",'Mapa final'!$AD$36="Moderado"),CONCATENATE("R10C",'Mapa final'!$R$36),"") | S15: =IF(AND('Mapa final'!$AB$34="Muy Alta",'Mapa final'!$AD$34="Mayor"),CONCATENATE("R10C",'Mapa final'!$R$34),"") | T15: =IF(AND('Mapa final'!$AB$35="Muy Alta",'Mapa final'!$AD$35="Mayor"),CONCATENATE("R10C",'Mapa final'!$R$35),"") | U15: =IF(AND('Mapa final'!$AB$36="Muy Alta",'Mapa final'!$AD$36="Mayor"),CONCATENATE("R10C",'Mapa final'!$R$36),"") | V15: =IF(AND('Mapa final'!$AB$34="Muy Alta",'Mapa final'!$AD$34="Catastrófico"),CONCATENATE("R10C",'Mapa final'!$R$34),"") | W15: =IF(AND('Mapa final'!$AB$35="Muy Alta",'Mapa final'!$AD$35="Catastrófico"),CONCATENATE("R10C",'Mapa final'!$R$35),"") | X15: =IF(AND('Mapa final'!$AB$36="Muy Alta",'Mapa final'!$AD$36="Catastrófico"),CONCATENATE("R10C",'Mapa final'!$R$36),"")
J16: =IF(AND('Mapa final'!$AB$37="Muy Alta",'Mapa final'!$AD$37="Leve"),CONCATENATE("R11C",'Mapa final'!$R$37),"") | K16: =IF(AND('Mapa final'!$AB$38="Muy Alta",'Mapa final'!$AD$38="Leve"),CONCATENATE("R11C",'Mapa final'!$R$38),"") | L16: =IF(AND('Mapa final'!$AB$39="Muy Alta",'Mapa final'!$AD$39="Leve"),CONCATENATE("R11C",'Mapa final'!$R$39),"") | M16: =IF(AND('Mapa final'!$AB$37="Muy Alta",'Mapa final'!$AD$37="Menor"),CONCATENATE("R11C",'Mapa final'!$R$37),"") | N16: =IF(AND('Mapa final'!$AB$38="Muy Alta",'Mapa final'!$AD$38="Menor"),CONCATENATE("R11C",'Mapa final'!$R$38),"") | O16: =IF(AND('Mapa final'!$AB$39="Muy Alta",'Mapa final'!$AD$39="Menor"),CONCATENATE("R11C",'Mapa final'!$R$39),"") | P16: =IF(AND('Mapa final'!$AB$37="Muy Alta",'Mapa final'!$AD$37="Moderado"),CONCATENATE("R11C",'Mapa final'!$R$37),"") | Q16: =IF(AND('Mapa final'!$AB$38="Muy Alta",'Mapa final'!$AD$38="Moderado"),CONCATENATE("R11C",'Mapa final'!$R$38),"") | R16: =IF(AND('Mapa final'!$AB$39="Muy Alta",'Mapa final'!$AD$39="Moderado"),CONCATENATE("R11C",'Mapa final'!$R$39),"") | S16: =IF(AND('Mapa final'!$AB$37="Muy Alta",'Mapa final'!$AD$37="Mayor"),CONCATENATE("R11C",'Mapa final'!$R$37),"") | T16: =IF(AND('Mapa final'!$AB$38="Muy Alta",'Mapa final'!$AD$38="Mayor"),CONCATENATE("R11C",'Mapa final'!$R$38),"") | U16: =IF(AND('Mapa final'!$AB$39="Muy Alta",'Mapa final'!$AD$39="Mayor"),CONCATENATE("R11C",'Mapa final'!$R$39),"") | V16: =IF(AND('Mapa final'!$AB$37="Muy Alta",'Mapa final'!$AD$37="Catastrófico"),CONCATENATE("R11C",'Mapa final'!$R$37),"") | W16: =IF(AND('Mapa final'!$AB$38="Muy Alta",'Mapa final'!$AD$38="Catastrófico"),CONCATENATE("R11C",'Mapa final'!$R$38),"") | X16: =IF(AND('Mapa final'!$AB$39="Muy Alta",'Mapa final'!$AD$39="Catastrófico"),CONCATENATE("R11C",'Mapa final'!$R$39),"")
J17: =IF(AND('Mapa final'!$AB$40="Muy Alta",'Mapa final'!$AD$40="Leve"),CONCATENATE("R11C",'Mapa final'!$R$40),"") | K17: =IF(AND('Mapa final'!$AB$41="Muy Alta",'Mapa final'!$AD$41="Leve"),CONCATENATE("R12C",'Mapa final'!$R$41),"") | L17: =IF(AND('Mapa final'!$AB$42="Muy Alta",'Mapa final'!$AD$42="Leve"),CONCATENATE("R12C",'Mapa final'!$R$42),"") | M17: =IF(AND('Mapa final'!$AB$40="Muy Alta",'Mapa final'!$AD$40="Menor"),CONCATENATE("R11C",'Mapa final'!$R$40),"") | N17: =IF(AND('Mapa final'!$AB$41="Muy Alta",'Mapa final'!$AD$41="Menor"),CONCATENATE("R12C",'Mapa final'!$R$41),"") | O17: =IF(AND('Mapa final'!$AB$42="Muy Alta",'Mapa final'!$AD$42="Menor"),CONCATENATE("R12C",'Mapa final'!$R$42),"") | P17: =IF(AND('Mapa final'!$AB$40="Muy Alta",'Mapa final'!$AD$40="Moderado"),CONCATENATE("R11C",'Mapa final'!$R$40),"") | Q17: =IF(AND('Mapa final'!$AB$41="Muy Alta",'Mapa final'!$AD$41="Moderado"),CONCATENATE("R12C",'Mapa final'!$R$41),"") | R17: =IF(AND('Mapa final'!$AB$42="Muy Alta",'Mapa final'!$AD$42="Moderado"),CONCATENATE("R12C",'Mapa final'!$R$42),"") | S17: =IF(AND('Mapa final'!$AB$40="Muy Alta",'Mapa final'!$AD$40="Mayor"),CONCATENATE("R11C",'Mapa final'!$R$40),"") | T17: =IF(AND('Mapa final'!$AB$41="Muy Alta",'Mapa final'!$AD$41="Mayor"),CONCATENATE("R12C",'Mapa final'!$R$41),"") | U17: =IF(AND('Mapa final'!$AB$42="Muy Alta",'Mapa final'!$AD$42="Mayor"),CONCATENATE("R12C",'Mapa final'!$R$42),"") | V17: =IF(AND('Mapa final'!$AB$40="Muy Alta",'Mapa final'!$AD$40="Catastrófico"),CONCATENATE("R11C",'Mapa final'!$R$40),"") | W17: =IF(AND('Mapa final'!$AB$41="Muy Alta",'Mapa final'!$AD$41="Catastrófico"),CONCATENATE("R12C",'Mapa final'!$R$41),"") | X17: =IF(AND('Mapa final'!$AB$42="Muy Alta",'Mapa final'!$AD$42="Catastrófico"),CONCATENATE("R12C",'Mapa final'!$R$42),"")
J18: =IF(AND('Mapa final'!$AB$43="Muy Alta",'Mapa final'!$AD$43="Leve"),CONCATENATE("R12C",'Mapa final'!$R$43),"") | K18: =IF(AND('Mapa final'!$AB$44="Muy Alta",'Mapa final'!$AD$44="Leve"),CONCATENATE("R13C",'Mapa final'!$R$44),"") | L18: =IF(AND('Mapa final'!$AB$45="Muy Alta",'Mapa final'!$AD$45="Leve"),CONCATENATE("R13C",'Mapa final'!$R$45),"") | M18: =IF(AND('Mapa final'!$AB$43="Muy Alta",'Mapa final'!$AD$43="Menor"),CONCATENATE("R12C",'Mapa final'!$R$43),"") | N18: =IF(AND('Mapa final'!$AB$44="Muy Alta",'Mapa final'!$AD$44="Menor"),CONCATENATE("R13C",'Mapa final'!$R$44),"") | O18: =IF(AND('Mapa final'!$AB$45="Muy Alta",'Mapa final'!$AD$45="Menor"),CONCATENATE("R13C",'Mapa final'!$R$45),"") | P18: =IF(AND('Mapa final'!$AB$43="Muy Alta",'Mapa final'!$AD$43="Moderado"),CONCATENATE("R12C",'Mapa final'!$R$43),"") | Q18: =IF(AND('Mapa final'!$AB$44="Muy Alta",'Mapa final'!$AD$44="Moderado"),CONCATENATE("R13C",'Mapa final'!$R$44),"") | R18: =IF(AND('Mapa final'!$AB$45="Muy Alta",'Mapa final'!$AD$45="Moderado"),CONCATENATE("R13C",'Mapa final'!$R$45),"") | S18: =IF(AND('Mapa final'!$AB$43="Muy Alta",'Mapa final'!$AD$43="Mayor"),CONCATENATE("R12C",'Mapa final'!$R$43),"") | T18: =IF(AND('Mapa final'!$AB$44="Muy Alta",'Mapa final'!$AD$44="Mayor"),CONCATENATE("R13C",'Mapa final'!$R$44),"") | U18: =IF(AND('Mapa final'!$AB$45="Muy Alta",'Mapa final'!$AD$45="Mayor"),CONCATENATE("R13C",'Mapa final'!$R$45),"") | V18: =IF(AND('Mapa final'!$AB$43="Muy Alta",'Mapa final'!$AD$43="Catastrófico"),CONCATENATE("R12C",'Mapa final'!$R$43),"") | W18: =IF(AND('Mapa final'!$AB$44="Muy Alta",'Mapa final'!$AD$44="Catastrófico"),CONCATENATE("R13C",'Mapa final'!$R$44),"") | X18: =IF(AND('Mapa final'!$AB$45="Muy Alta",'Mapa final'!$AD$45="Catastrófico"),CONCATENATE("R13C",'Mapa final'!$R$45),"")
J19: =IF(AND('Mapa final'!$AB$46="Muy Alta",'Mapa final'!$AD$46="Leve"),CONCATENATE("R13C",'Mapa final'!$R$46),"") | K19: =IF(AND('Mapa final'!$AB$47="Muy Alta",'Mapa final'!$AD$47="Leve"),CONCATENATE("R13C",'Mapa final'!$R$47),"") | L19: =IF(AND('Mapa final'!$AB$48="Muy Alta",'Mapa final'!$AD$48="Leve"),CONCATENATE("R13C",'Mapa final'!$R$48),"") | M19: =IF(AND('Mapa final'!$AB$46="Muy Alta",'Mapa final'!$AD$46="Menor"),CONCATENATE("R13C",'Mapa final'!$R$46),"") | N19: =IF(AND('Mapa final'!$AB$47="Muy Alta",'Mapa final'!$AD$47="Menor"),CONCATENATE("R13C",'Mapa final'!$R$47),"") | O19: =IF(AND('Mapa final'!$AB$48="Muy Alta",'Mapa final'!$AD$48="Menor"),CONCATENATE("R13C",'Mapa final'!$R$48),"") | P19: =IF(AND('Mapa final'!$AB$46="Muy Alta",'Mapa final'!$AD$46="Moderado"),CONCATENATE("R13C",'Mapa final'!$R$46),"") | Q19: =IF(AND('Mapa final'!$AB$47="Muy Alta",'Mapa final'!$AD$47="Moderado"),CONCATENATE("R13C",'Mapa final'!$R$47),"") | R19: =IF(AND('Mapa final'!$AB$48="Muy Alta",'Mapa final'!$AD$48="Moderado"),CONCATENATE("R13C",'Mapa final'!$R$48),"") | S19: =IF(AND('Mapa final'!$AB$46="Muy Alta",'Mapa final'!$AD$46="Mayor"),CONCATENATE("R13C",'Mapa final'!$R$46),"") | T19: =IF(AND('Mapa final'!$AB$47="Muy Alta",'Mapa final'!$AD$47="Mayor"),CONCATENATE("R13C",'Mapa final'!$R$47),"") | U19: =IF(AND('Mapa final'!$AB$48="Muy Alta",'Mapa final'!$AD$48="Mayor"),CONCATENATE("R13C",'Mapa final'!$R$48),"") | V19: =IF(AND('Mapa final'!$AB$46="Muy Alta",'Mapa final'!$AD$46="Catastrófico"),CONCATENATE("R13C",'Mapa final'!$R$46),"") | W19: =IF(AND('Mapa final'!$AB$47="Muy Alta",'Mapa final'!$AD$47="Catastrófico"),CONCATENATE("R13C",'Mapa final'!$R$47),"") | X19: =IF(AND('Mapa final'!$AB$48="Muy Alta",'Mapa final'!$AD$48="Catastrófico"),CONCATENATE("R13C",'Mapa final'!$R$48),"")
J20: =IF(AND('Mapa final'!$AB$49="Muy Alta",'Mapa final'!$AD$49="Leve"),CONCATENATE("R14C",'Mapa final'!$R$49),"") | K20: =IF(AND('Mapa final'!$AB$50="Muy Alta",'Mapa final'!$AD$50="Leve"),CONCATENATE("R14C",'Mapa final'!$R$50),"") | L20: =IF(AND('Mapa final'!$AB$51="Muy Alta",'Mapa final'!$AD$51="Leve"),CONCATENATE("R14C",'Mapa final'!$R$51),"") | M20: =IF(AND('Mapa final'!$AB$49="Muy Alta",'Mapa final'!$AD$49="Menor"),CONCATENATE("R14C",'Mapa final'!$R$49),"") | N20: =IF(AND('Mapa final'!$AB$50="Muy Alta",'Mapa final'!$AD$50="Menor"),CONCATENATE("R14C",'Mapa final'!$R$50),"") | O20: =IF(AND('Mapa final'!$AB$51="Muy Alta",'Mapa final'!$AD$51="Menor"),CONCATENATE("R14C",'Mapa final'!$R$51),"") | P20: =IF(AND('Mapa final'!$AB$49="Muy Alta",'Mapa final'!$AD$49="Moderado"),CONCATENATE("R14C",'Mapa final'!$R$49),"") | Q20: =IF(AND('Mapa final'!$AB$50="Muy Alta",'Mapa final'!$AD$50="Moderado"),CONCATENATE("R14C",'Mapa final'!$R$50),"") | R20: =IF(AND('Mapa final'!$AB$51="Muy Alta",'Mapa final'!$AD$51="Moderado"),CONCATENATE("R14C",'Mapa final'!$R$51),"") | S20: =IF(AND('Mapa final'!$AB$49="Muy Alta",'Mapa final'!$AD$49="Mayor"),CONCATENATE("R14C",'Mapa final'!$R$49),"") | T20: =IF(AND('Mapa final'!$AB$50="Muy Alta",'Mapa final'!$AD$50="Mayor"),CONCATENATE("R14C",'Mapa final'!$R$50),"") | U20: =IF(AND('Mapa final'!$AB$51="Muy Alta",'Mapa final'!$AD$51="Mayor"),CONCATENATE("R14C",'Mapa final'!$R$51),"") | V20: =IF(AND('Mapa final'!$AB$49="Muy Alta",'Mapa final'!$AD$49="Catastrófico"),CONCATENATE("R14C",'Mapa final'!$R$49),"") | W20: =IF(AND('Mapa final'!$AB$50="Muy Alta",'Mapa final'!$AD$50="Catastrófico"),CONCATENATE("R14C",'Mapa final'!$R$50),"") | X20: =IF(AND('Mapa final'!$AB$51="Muy Alta",'Mapa final'!$AD$51="Catastrófico"),CONCATENATE("R14C",'Mapa final'!$R$51),"")
J21: =IF(AND('Mapa final'!$AB$52="Muy Alta",'Mapa final'!$AD$52="Leve"),CONCATENATE("R15C",'Mapa final'!$R$52),"") | K21: =IF(AND('Mapa final'!$AB$53="Muy Alta",'Mapa final'!$AD$53="Leve"),CONCATENATE("R15C",'Mapa final'!$R$53),"") | L21: =IF(AND('Mapa final'!$AB$54="Muy Alta",'Mapa final'!$AD$54="Leve"),CONCATENATE("R15C",'Mapa final'!$R$54),"") | M21: =IF(AND('Mapa final'!$AB$52="Muy Alta",'Mapa final'!$AD$52="Menor"),CONCATENATE("R15C",'Mapa final'!$R$52),"") | N21: =IF(AND('Mapa final'!$AB$53="Muy Alta",'Mapa final'!$AD$53="Menor"),CONCATENATE("R15C",'Mapa final'!$R$53),"") | O21: =IF(AND('Mapa final'!$AB$54="Muy Alta",'Mapa final'!$AD$54="Menor"),CONCATENATE("R15C",'Mapa final'!$R$54),"") | P21: =IF(AND('Mapa final'!$AB$52="Muy Alta",'Mapa final'!$AD$52="Moderado"),CONCATENATE("R15C",'Mapa final'!$R$52),"") | Q21: =IF(AND('Mapa final'!$AB$53="Muy Alta",'Mapa final'!$AD$53="Moderado"),CONCATENATE("R15C",'Mapa final'!$R$53),"") | R21: =IF(AND('Mapa final'!$AB$54="Muy Alta",'Mapa final'!$AD$54="Moderado"),CONCATENATE("R15C",'Mapa final'!$R$54),"") | S21: =IF(AND('Mapa final'!$AB$52="Muy Alta",'Mapa final'!$AD$52="Mayor"),CONCATENATE("R15C",'Mapa final'!$R$52),"") | T21: =IF(AND('Mapa final'!$AB$53="Muy Alta",'Mapa final'!$AD$53="Mayor"),CONCATENATE("R15C",'Mapa final'!$R$53),"") | U21: =IF(AND('Mapa final'!$AB$54="Muy Alta",'Mapa final'!$AD$54="Mayor"),CONCATENATE("R15C",'Mapa final'!$R$54),"") | V21: =IF(AND('Mapa final'!$AB$52="Muy Alta",'Mapa final'!$AD$52="Catastrófico"),CONCATENATE("R15C",'Mapa final'!$R$52),"") | W21: =IF(AND('Mapa final'!$AB$53="Muy Alta",'Mapa final'!$AD$53="Catastrófico"),CONCATENATE("R15C",'Mapa final'!$R$53),"") | X21: =IF(AND('Mapa final'!$AB$54="Muy Alta",'Mapa final'!$AD$54="Catastrófico"),CONCATENATE("R15C",'Mapa final'!$R$54),"")
J22: =IF(AND('Mapa final'!$AB$55="Muy Alta",'Mapa final'!$AD$55="Leve"),CONCATENATE("R16C",'Mapa final'!$R$55),"") | K22: =IF(AND('Mapa final'!$AB$56="Muy Alta",'Mapa final'!$AD$56="Leve"),CONCATENATE("R16C",'Mapa final'!$R$56),"") | L22: =IF(AND('Mapa final'!$AB$57="Muy Alta",'Mapa final'!$AD$57="Leve"),CONCATENATE("R16C",'Mapa final'!$R$57),"") | M22: =IF(AND('Mapa final'!$AB$55="Muy Alta",'Mapa final'!$AD$55="Menor"),CONCATENATE("R16C",'Mapa final'!$R$55),"") | N22: =IF(AND('Mapa final'!$AB$56="Muy Alta",'Mapa final'!$AD$56="Menor"),CONCATENATE("R16C",'Mapa final'!$R$56),"") | O22: =IF(AND('Mapa final'!$AB$57="Muy Alta",'Mapa final'!$AD$57="Menor"),CONCATENATE("R16C",'Mapa final'!$R$57),"") | P22: =IF(AND('Mapa final'!$AB$55="Muy Alta",'Mapa final'!$AD$55="Moderado"),CONCATENATE("R16C",'Mapa final'!$R$55),"") | Q22: =IF(AND('Mapa final'!$AB$56="Muy Alta",'Mapa final'!$AD$56="Moderado"),CONCATENATE("R16C",'Mapa final'!$R$56),"") | R22: =IF(AND('Mapa final'!$AB$57="Muy Alta",'Mapa final'!$AD$57="Moderado"),CONCATENATE("R16C",'Mapa final'!$R$57),"") | S22: =IF(AND('Mapa final'!$AB$55="Muy Alta",'Mapa final'!$AD$55="Mayor"),CONCATENATE("R16C",'Mapa final'!$R$55),"") | T22: =IF(AND('Mapa final'!$AB$56="Muy Alta",'Mapa final'!$AD$56="Mayor"),CONCATENATE("R16C",'Mapa final'!$R$56),"") | U22: =IF(AND('Mapa final'!$AB$57="Muy Alta",'Mapa final'!$AD$57="Mayor"),CONCATENATE("R16C",'Mapa final'!$R$57),"") | V22: =IF(AND('Mapa final'!$AB$55="Muy Alta",'Mapa final'!$AD$55="Catastrófico"),CONCATENATE("R16C",'Mapa final'!$R$55),"") | W22: =IF(AND('Mapa final'!$AB$56="Muy Alta",'Mapa final'!$AD$56="Catastrófico"),CONCATENATE("R16C",'Mapa final'!$R$56),"") | X22: =IF(AND('Mapa final'!$AB$57="Muy Alta",'Mapa final'!$AD$57="Catastrófico"),CONCATENATE("R16C",'Mapa final'!$R$57),"")
J23: =IF(AND('Mapa final'!$AB$58="Muy Alta",'Mapa final'!$AD$58="Leve"),CONCATENATE("R17C",'Mapa final'!$R$58),"") | K23: =IF(AND('Mapa final'!$AB$59="Muy Alta",'Mapa final'!$AD$59="Leve"),CONCATENATE("R17C",'Mapa final'!$R$59),"") | L23: =IF(AND('Mapa final'!$AB$60="Muy Alta",'Mapa final'!$AD$60="Leve"),CONCATENATE("R17C",'Mapa final'!$R$60),"") | M23: =IF(AND('Mapa final'!$AB$58="Muy Alta",'Mapa final'!$AD$58="Menor"),CONCATENATE("R17C",'Mapa final'!$R$58),"") | N23: =IF(AND('Mapa final'!$AB$59="Muy Alta",'Mapa final'!$AD$59="Menor"),CONCATENATE("R17C",'Mapa final'!$R$59),"") | O23: =IF(AND('Mapa final'!$AB$60="Muy Alta",'Mapa final'!$AD$60="Menor"),CONCATENATE("R17C",'Mapa final'!$R$60),"") | P23: =IF(AND('Mapa final'!$AB$58="Muy Alta",'Mapa final'!$AD$58="Moderado"),CONCATENATE("R17C",'Mapa final'!$R$58),"") | Q23: =IF(AND('Mapa final'!$AB$59="Muy Alta",'Mapa final'!$AD$59="Moderado"),CONCATENATE("R17C",'Mapa final'!$R$59),"") | R23: =IF(AND('Mapa final'!$AB$60="Muy Alta",'Mapa final'!$AD$60="Moderado"),CONCATENATE("R17C",'Mapa final'!$R$60),"") | S23: =IF(AND('Mapa final'!$AB$58="Muy Alta",'Mapa final'!$AD$58="Mayor"),CONCATENATE("R17C",'Mapa final'!$R$58),"") | T23: =IF(AND('Mapa final'!$AB$59="Muy Alta",'Mapa final'!$AD$59="Mayor"),CONCATENATE("R17C",'Mapa final'!$R$59),"") | U23: =IF(AND('Mapa final'!$AB$60="Muy Alta",'Mapa final'!$AD$60="Mayor"),CONCATENATE("R17C",'Mapa final'!$R$60),"") | V23: =IF(AND('Mapa final'!$AB$58="Muy Alta",'Mapa final'!$AD$58="Catastrófico"),CONCATENATE("R17C",'Mapa final'!$R$58),"") | W23: =IF(AND('Mapa final'!$AB$59="Muy Alta",'Mapa final'!$AD$59="Catastrófico"),CONCATENATE("R17C",'Mapa final'!$R$59),"") | X23: =IF(AND('Mapa final'!$AB$60="Muy Alta",'Mapa final'!$AD$60="Catastrófico"),CONCATENATE("R17C",'Mapa final'!$R$60),"")
J24: =IF(AND('Mapa final'!$AB$61="Muy Alta",'Mapa final'!$AD$61="Leve"),CONCATENATE("R18C",'Mapa final'!$R$61),"") | K24: =IF(AND('Mapa final'!$AB$62="Muy Alta",'Mapa final'!$AD$62="Leve"),CONCATENATE("R18C",'Mapa final'!$R$62),"") | L24: =IF(AND('Mapa final'!$AB$63="Muy Alta",'Mapa final'!$AD$63="Leve"),CONCATENATE("R18C",'Mapa final'!$R$63),"") | M24: =IF(AND('Mapa final'!$AB$61="Muy Alta",'Mapa final'!$AD$61="Menor"),CONCATENATE("R18C",'Mapa final'!$R$61),"") | N24: =IF(AND('Mapa final'!$AB$62="Muy Alta",'Mapa final'!$AD$62="Menor"),CONCATENATE("R18C",'Mapa final'!$R$62),"") | O24: =IF(AND('Mapa final'!$AB$63="Muy Alta",'Mapa final'!$AD$63="Menor"),CONCATENATE("R18C",'Mapa final'!$R$63),"") | P24: =IF(AND('Mapa final'!$AB$61="Muy Alta",'Mapa final'!$AD$61="Moderado"),CONCATENATE("R18C",'Mapa final'!$R$61),"") | Q24: =IF(AND('Mapa final'!$AB$62="Muy Alta",'Mapa final'!$AD$62="Moderado"),CONCATENATE("R18C",'Mapa final'!$R$62),"") | R24: =IF(AND('Mapa final'!$AB$63="Muy Alta",'Mapa final'!$AD$63="Moderado"),CONCATENATE("R18C",'Mapa final'!$R$63),"") | S24: =IF(AND('Mapa final'!$AB$61="Muy Alta",'Mapa final'!$AD$61="Mayor"),CONCATENATE("R18C",'Mapa final'!$R$61),"") | T24: =IF(AND('Mapa final'!$AB$62="Muy Alta",'Mapa final'!$AD$62="Mayor"),CONCATENATE("R18C",'Mapa final'!$R$62),"") | U24: =IF(AND('Mapa final'!$AB$63="Muy Alta",'Mapa final'!$AD$63="Mayor"),CONCATENATE("R18C",'Mapa final'!$R$63),"") | V24: =IF(AND('Mapa final'!$AB$61="Muy Alta",'Mapa final'!$AD$61="Catastrófico"),CONCATENATE("R18C",'Mapa final'!$R$61),"") | W24: =IF(AND('Mapa final'!$AB$62="Muy Alta",'Mapa final'!$AD$62="Catastrófico"),CONCATENATE("R18C",'Mapa final'!$R$62),"") | X24: =IF(AND('Mapa final'!$AB$63="Muy Alta",'Mapa final'!$AD$63="Catastrófico"),CONCATENATE("R18C",'Mapa final'!$R$63),"")
J25: =IF(AND('Mapa final'!$AB$64="Muy Alta",'Mapa final'!$AD$64="Leve"),CONCATENATE("R19C",'Mapa final'!$R$64),"") | K25: =IF(AND('Mapa final'!$AB$65="Muy Alta",'Mapa final'!$AD$65="Leve"),CONCATENATE("R19C",'Mapa final'!$R$65),"") | L25: =IF(AND('Mapa final'!$AB$66="Muy Alta",'Mapa final'!$AD$66="Leve"),CONCATENATE("R19C",'Mapa final'!$R$66),"") | M25: =IF(AND('Mapa final'!$AB$64="Muy Alta",'Mapa final'!$AD$64="Menor"),CONCATENATE("R19C",'Mapa final'!$R$64),"") | N25: =IF(AND('Mapa final'!$AB$65="Muy Alta",'Mapa final'!$AD$65="Menor"),CONCATENATE("R19C",'Mapa final'!$R$65),"") | O25: =IF(AND('Mapa final'!$AB$66="Muy Alta",'Mapa final'!$AD$66="Menor"),CONCATENATE("R19C",'Mapa final'!$R$66),"") | P25: =IF(AND('Mapa final'!$AB$64="Muy Alta",'Mapa final'!$AD$64="Moderado"),CONCATENATE("R19C",'Mapa final'!$R$64),"") | Q25: =IF(AND('Mapa final'!$AB$65="Muy Alta",'Mapa final'!$AD$65="Moderado"),CONCATENATE("R19C",'Mapa final'!$R$65),"") | R25: =IF(AND('Mapa final'!$AB$66="Muy Alta",'Mapa final'!$AD$66="Moderado"),CONCATENATE("R19C",'Mapa final'!$R$66),"") | S25: =IF(AND('Mapa final'!$AB$64="Muy Alta",'Mapa final'!$AD$64="Mayor"),CONCATENATE("R19C",'Mapa final'!$R$64),"") | T25: =IF(AND('Mapa final'!$AB$65="Muy Alta",'Mapa final'!$AD$65="Mayor"),CONCATENATE("R19C",'Mapa final'!$R$65),"") | U25: =IF(AND('Mapa final'!$AB$66="Muy Alta",'Mapa final'!$AD$66="Mayor"),CONCATENATE("R19C",'Mapa final'!$R$66),"") | V25: =IF(AND('Mapa final'!$AB$64="Muy Alta",'Mapa final'!$AD$64="Catastrófico"),CONCATENATE("R19C",'Mapa final'!$R$64),"") | W25: =IF(AND('Mapa final'!$AB$65="Muy Alta",'Mapa final'!$AD$65="Catastrófico"),CONCATENATE("R19C",'Mapa final'!$R$65),"") | X25: =IF(AND('Mapa final'!$AB$66="Muy Alta",'Mapa final'!$AD$66="Catastrófico"),CONCATENATE("R19C",'Mapa final'!$R$66),"")
J26: =IF(AND('Mapa final'!$AB$67="Muy Alta",'Mapa final'!$AD$67="Leve"),CONCATENATE("R20C",'Mapa final'!$R$67),"") | K26: =IF(AND('Mapa final'!$AB$68="Muy Alta",'Mapa final'!$AD$68="Leve"),CONCATENATE("R20C",'Mapa final'!$R$68),"") | L26: =IF(AND('Mapa final'!$AB$69="Muy Alta",'Mapa final'!$AD$69="Leve"),CONCATENATE("R20C",'Mapa final'!$R$69),"") | M26: =IF(AND('Mapa final'!$AB$67="Muy Alta",'Mapa final'!$AD$67="Menor"),CONCATENATE("R20C",'Mapa final'!$R$67),"") | N26: =IF(AND('Mapa final'!$AB$68="Muy Alta",'Mapa final'!$AD$68="Menor"),CONCATENATE("R20C",'Mapa final'!$R$68),"") | O26: =IF(AND('Mapa final'!$AB$69="Muy Alta",'Mapa final'!$AD$69="Menor"),CONCATENATE("R20C",'Mapa final'!$R$69),"") | P26: =IF(AND('Mapa final'!$AB$67="Muy Alta",'Mapa final'!$AD$67="Moderado"),CONCATENATE("R20C",'Mapa final'!$R$67),"") | Q26: =IF(AND('Mapa final'!$AB$68="Muy Alta",'Mapa final'!$AD$68="Moderado"),CONCATENATE("R20C",'Mapa final'!$R$68),"") | R26: =IF(AND('Mapa final'!$AB$69="Muy Alta",'Mapa final'!$AD$69="Moderado"),CONCATENATE("R20C",'Mapa final'!$R$69),"") | S26: =IF(AND('Mapa final'!$AB$67="Muy Alta",'Mapa final'!$AD$67="Mayor"),CONCATENATE("R20C",'Mapa final'!$R$67),"") | T26: =IF(AND('Mapa final'!$AB$68="Muy Alta",'Mapa final'!$AD$68="Mayor"),CONCATENATE("R20C",'Mapa final'!$R$68),"") | U26: =IF(AND('Mapa final'!$AB$69="Muy Alta",'Mapa final'!$AD$69="Mayor"),CONCATENATE("R20C",'Mapa final'!$R$69),"") | V26: =IF(AND('Mapa final'!$AB$67="Muy Alta",'Mapa final'!$AD$67="Catastrófico"),CONCATENATE("R20C",'Mapa final'!$R$67),"") | W26: =IF(AND('Mapa final'!$AB$68="Muy Alta",'Mapa final'!$AD$68="Catastrófico"),CONCATENATE("R20C",'Mapa final'!$R$68),"") | X26: =IF(AND('Mapa final'!$AB$69="Muy Alta",'Mapa final'!$AD$69="Catastrófico"),CONCATENATE("R20C",'Mapa final'!$R$69),"")
J27: =IF(AND('Mapa final'!$AB$70="Muy Alta",'Mapa final'!$AD$70="Leve"),CONCATENATE("R21C",'Mapa final'!$R$70),"") | K27: =IF(AND('Mapa final'!$AB$71="Muy Alta",'Mapa final'!$AD$71="Leve"),CONCATENATE("R21C",'Mapa final'!$R$71),"") | L27: =IF(AND('Mapa final'!$AB$72="Muy Alta",'Mapa final'!$AD$72="Leve"),CONCATENATE("R21C",'Mapa final'!$R$72),"") | M27: =IF(AND('Mapa final'!$AB$70="Muy Alta",'Mapa final'!$AD$70="Menor"),CONCATENATE("R21C",'Mapa final'!$R$70),"") | N27: =IF(AND('Mapa final'!$AB$71="Muy Alta",'Mapa final'!$AD$71="Menor"),CONCATENATE("R21C",'Mapa final'!$R$71),"") | O27: =IF(AND('Mapa final'!$AB$72="Muy Alta",'Mapa final'!$AD$72="Menor"),CONCATENATE("R21C",'Mapa final'!$R$72),"") | P27: =IF(AND('Mapa final'!$AB$70="Muy Alta",'Mapa final'!$AD$70="Moderado"),CONCATENATE("R21C",'Mapa final'!$R$70),"") | Q27: =IF(AND('Mapa final'!$AB$71="Muy Alta",'Mapa final'!$AD$71="Moderado"),CONCATENATE("R21C",'Mapa final'!$R$71),"") | R27: =IF(AND('Mapa final'!$AB$72="Muy Alta",'Mapa final'!$AD$72="Moderado"),CONCATENATE("R21C",'Mapa final'!$R$72),"") | S27: =IF(AND('Mapa final'!$AB$70="Muy Alta",'Mapa final'!$AD$70="Mayor"),CONCATENATE("R21C",'Mapa final'!$R$70),"") | T27: =IF(AND('Mapa final'!$AB$71="Muy Alta",'Mapa final'!$AD$71="Mayor"),CONCATENATE("R21C",'Mapa final'!$R$71),"") | U27: =IF(AND('Mapa final'!$AB$72="Muy Alta",'Mapa final'!$AD$72="Mayor"),CONCATENATE("R21C",'Mapa final'!$R$72),"") | V27: =IF(AND('Mapa final'!$AB$70="Muy Alta",'Mapa final'!$AD$70="Catastrófico"),CONCATENATE("R21C",'Mapa final'!$R$70),"") | W27: =IF(AND('Mapa final'!$AB$71="Muy Alta",'Mapa final'!$AD$71="Catastrófico"),CONCATENATE("R21C",'Mapa final'!$R$71),"") | X27: =IF(AND('Mapa final'!$AB$72="Muy Alta",'Mapa final'!$AD$72="Catastrófico"),CONCATENATE("R21C",'Mapa final'!$R$72),"")
J28: =IF(AND('Mapa final'!$AB$73="Muy Alta",'Mapa final'!$AD$73="Leve"),CONCATENATE("R22C",'Mapa final'!$R$73),"") | K28: =IF(AND('Mapa final'!$AB$74="Muy Alta",'Mapa final'!$AD$74="Leve"),CONCATENATE("R22C",'Mapa final'!$R$74),"") | L28: =IF(AND('Mapa final'!$AB$75="Muy Alta",'Mapa final'!$AD$75="Leve"),CONCATENATE("R22C",'Mapa final'!$R$75),"") | M28: =IF(AND('Mapa final'!$AB$73="Muy Alta",'Mapa final'!$AD$73="Menor"),CONCATENATE("R22C",'Mapa final'!$R$73),"") | N28: =IF(AND('Mapa final'!$AB$74="Muy Alta",'Mapa final'!$AD$74="Menor"),CONCATENATE("R22C",'Mapa final'!$R$74),"") | O28: =IF(AND('Mapa final'!$AB$75="Muy Alta",'Mapa final'!$AD$75="Menor"),CONCATENATE("R22C",'Mapa final'!$R$75),"") | P28: =IF(AND('Mapa final'!$AB$73="Muy Alta",'Mapa final'!$AD$73="Moderado"),CONCATENATE("R22C",'Mapa final'!$R$73),"") | Q28: =IF(AND('Mapa final'!$AB$74="Muy Alta",'Mapa final'!$AD$74="Moderado"),CONCATENATE("R22C",'Mapa final'!$R$74),"") | R28: =IF(AND('Mapa final'!$AB$75="Muy Alta",'Mapa final'!$AD$75="Moderado"),CONCATENATE("R22C",'Mapa final'!$R$75),"") | S28: =IF(AND('Mapa final'!$AB$73="Muy Alta",'Mapa final'!$AD$73="Mayor"),CONCATENATE("R22C",'Mapa final'!$R$73),"") | T28: =IF(AND('Mapa final'!$AB$74="Muy Alta",'Mapa final'!$AD$74="Mayor"),CONCATENATE("R22C",'Mapa final'!$R$74),"") | U28: =IF(AND('Mapa final'!$AB$75="Muy Alta",'Mapa final'!$AD$75="Mayor"),CONCATENATE("R22C",'Mapa final'!$R$75),"") | V28: =IF(AND('Mapa final'!$AB$73="Muy Alta",'Mapa final'!$AD$73="Catastrófico"),CONCATENATE("R22C",'Mapa final'!$R$73),"") | W28: =IF(AND('Mapa final'!$AB$74="Muy Alta",'Mapa final'!$AD$74="Catastrófico"),CONCATENATE("R22C",'Mapa final'!$R$74),"") | X28: =IF(AND('Mapa final'!$AB$75="Muy Alta",'Mapa final'!$AD$75="Catastrófico"),CONCATENATE("R22C",'Mapa final'!$R$75),"")
J29: =IF(AND('Mapa final'!$AB$76="Muy Alta",'Mapa final'!$AD$76="Leve"),CONCATENATE("R23C",'Mapa final'!$R$76),"") | K29: =IF(AND('Mapa final'!$AB$77="Muy Alta",'Mapa final'!$AD$77="Leve"),CONCATENATE("R23C",'Mapa final'!$R$77),"") | L29: =IF(AND('Mapa final'!$AB$78="Muy Alta",'Mapa final'!$AD$78="Leve"),CONCATENATE("R23C",'Mapa final'!$R$78),"") | M29: =IF(AND('Mapa final'!$AB$76="Muy Alta",'Mapa final'!$AD$76="Menor"),CONCATENATE("R23C",'Mapa final'!$R$76),"") | N29: =IF(AND('Mapa final'!$AB$77="Muy Alta",'Mapa final'!$AD$77="Menor"),CONCATENATE("R23C",'Mapa final'!$R$77),"") | O29: =IF(AND('Mapa final'!$AB$78="Muy Alta",'Mapa final'!$AD$78="Menor"),CONCATENATE("R23C",'Mapa final'!$R$78),"") | P29: =IF(AND('Mapa final'!$AB$76="Muy Alta",'Mapa final'!$AD$76="Moderado"),CONCATENATE("R23C",'Mapa final'!$R$76),"") | Q29: =IF(AND('Mapa final'!$AB$77="Muy Alta",'Mapa final'!$AD$77="Moderado"),CONCATENATE("R23C",'Mapa final'!$R$77),"") | R29: =IF(AND('Mapa final'!$AB$78="Muy Alta",'Mapa final'!$AD$78="Moderado"),CONCATENATE("R23C",'Mapa final'!$R$78),"") | S29: =IF(AND('Mapa final'!$AB$76="Muy Alta",'Mapa final'!$AD$76="Mayor"),CONCATENATE("R23C",'Mapa final'!$R$76),"") | T29: =IF(AND('Mapa final'!$AB$77="Muy Alta",'Mapa final'!$AD$77="Mayor"),CONCATENATE("R23C",'Mapa final'!$R$77),"") | U29: =IF(AND('Mapa final'!$AB$78="Muy Alta",'Mapa final'!$AD$78="Mayor"),CONCATENATE("R23C",'Mapa final'!$R$78),"") | V29: =IF(AND('Mapa final'!$AB$76="Muy Alta",'Mapa final'!$AD$76="Catastrófico"),CONCATENATE("R23C",'Mapa final'!$R$76),"") | W29: =IF(AND('Mapa final'!$AB$77="Muy Alta",'Mapa final'!$AD$77="Catastrófico"),CONCATENATE("R23C",'Mapa final'!$R$77),"") | X29: =IF(AND('Mapa final'!$AB$78="Muy Alta",'Mapa final'!$AD$78="Catastrófico"),CONCATENATE("R23C",'Mapa final'!$R$78),"")
J30: =IF(AND('Mapa final'!$AB$79="Muy Alta",'Mapa final'!$AD$79="Leve"),CONCATENATE("R24C",'Mapa final'!$R$79),"") | K30: =IF(AND('Mapa final'!$AB$80="Muy Alta",'Mapa final'!$AD$80="Leve"),CONCATENATE("R24C",'Mapa final'!$R$80),"") | L30: =IF(AND('Mapa final'!$AB$81="Muy Alta",'Mapa final'!$AD$81="Leve"),CONCATENATE("R24C",'Mapa final'!$R$81),"") | M30: =IF(AND('Mapa final'!$AB$79="Muy Alta",'Mapa final'!$AD$79="Menor"),CONCATENATE("R24C",'Mapa final'!$R$79),"") | N30: =IF(AND('Mapa final'!$AB$80="Muy Alta",'Mapa final'!$AD$80="Menor"),CONCATENATE("R24C",'Mapa final'!$R$80),"") | O30: =IF(AND('Mapa final'!$AB$81="Muy Alta",'Mapa final'!$AD$81="Menor"),CONCATENATE("R24C",'Mapa final'!$R$81),"") | P30: =IF(AND('Mapa final'!$AB$79="Muy Alta",'Mapa final'!$AD$79="Moderado"),CONCATENATE("R24C",'Mapa final'!$R$79),"") | Q30: =IF(AND('Mapa final'!$AB$80="Muy Alta",'Mapa final'!$AD$80="Moderado"),CONCATENATE("R24C",'Mapa final'!$R$80),"") | R30: =IF(AND('Mapa final'!$AB$81="Muy Alta",'Mapa final'!$AD$81="Moderado"),CONCATENATE("R24C",'Mapa final'!$R$81),"") | S30: =IF(AND('Mapa final'!$AB$79="Muy Alta",'Mapa final'!$AD$79="Mayor"),CONCATENATE("R24C",'Mapa final'!$R$79),"") | T30: =IF(AND('Mapa final'!$AB$80="Muy Alta",'Mapa final'!$AD$80="Mayor"),CONCATENATE("R24C",'Mapa final'!$R$80),"") | U30: =IF(AND('Mapa final'!$AB$81="Muy Alta",'Mapa final'!$AD$81="Mayor"),CONCATENATE("R24C",'Mapa final'!$R$81),"") | V30: =IF(AND('Mapa final'!$AB$79="Muy Alta",'Mapa final'!$AD$79="Catastrófico"),CONCATENATE("R24C",'Mapa final'!$R$79),"") | W30: =IF(AND('Mapa final'!$AB$80="Muy Alta",'Mapa final'!$AD$80="Catastrófico"),CONCATENATE("R24C",'Mapa final'!$R$80),"") | X30: =IF(AND('Mapa final'!$AB$81="Muy Alta",'Mapa final'!$AD$81="Catastrófico"),CONCATENATE("R24C",'Mapa final'!$R$81),"")
J31: =IF(AND('Mapa final'!$AB$82="Muy Alta",'Mapa final'!$AD$82="Leve"),CONCATENATE("R25C",'Mapa final'!$R$82),"") | K31: =IF(AND('Mapa final'!$AB$83="Muy Alta",'Mapa final'!$AD$83="Leve"),CONCATENATE("R25C",'Mapa final'!$R$83),"") | L31: =IF(AND('Mapa final'!$AB$84="Muy Alta",'Mapa final'!$AD$84="Leve"),CONCATENATE("R25C",'Mapa final'!$R$84),"") | M31: =IF(AND('Mapa final'!$AB$82="Muy Alta",'Mapa final'!$AD$82="Menor"),CONCATENATE("R25C",'Mapa final'!$R$82),"") | N31: =IF(AND('Mapa final'!$AB$83="Muy Alta",'Mapa final'!$AD$83="Menor"),CONCATENATE("R25C",'Mapa final'!$R$83),"") | O31: =IF(AND('Mapa final'!$AB$84="Muy Alta",'Mapa final'!$AD$84="Menor"),CONCATENATE("R25C",'Mapa final'!$R$84),"") | P31: =IF(AND('Mapa final'!$AB$82="Muy Alta",'Mapa final'!$AD$82="Moderado"),CONCATENATE("R25C",'Mapa final'!$R$82),"") | Q31: =IF(AND('Mapa final'!$AB$83="Muy Alta",'Mapa final'!$AD$83="Moderado"),CONCATENATE("R25C",'Mapa final'!$R$83),"") | R31: =IF(AND('Mapa final'!$AB$84="Muy Alta",'Mapa final'!$AD$84="Moderado"),CONCATENATE("R25C",'Mapa final'!$R$84),"") | S31: =IF(AND('Mapa final'!$AB$82="Muy Alta",'Mapa final'!$AD$82="Mayor"),CONCATENATE("R25C",'Mapa final'!$R$82),"") | T31: =IF(AND('Mapa final'!$AB$83="Muy Alta",'Mapa final'!$AD$83="Mayor"),CONCATENATE("R25C",'Mapa final'!$R$83),"") | U31: =IF(AND('Mapa final'!$AB$84="Muy Alta",'Mapa final'!$AD$84="Mayor"),CONCATENATE("R25C",'Mapa final'!$R$84),"") | V31: =IF(AND('Mapa final'!$AB$82="Muy Alta",'Mapa final'!$AD$82="Catastrófico"),CONCATENATE("R25C",'Mapa final'!$R$82),"") | W31: =IF(AND('Mapa final'!$AB$83="Muy Alta",'Mapa final'!$AD$83="Catastrófico"),CONCATENATE("R25C",'Mapa final'!$R$83),"") | X31: =IF(AND('Mapa final'!$AB$84="Muy Alta",'Mapa final'!$AD$84="Catastrófico"),CONCATENATE("R25C",'Mapa final'!$R$84),"")
J32: =IF(AND('Mapa final'!$AB$85="Muy Alta",'Mapa final'!$AD$85="Leve"),CONCATENATE("R26C",'Mapa final'!$R$85),"") | K32: =IF(AND('Mapa final'!$AB$86="Muy Alta",'Mapa final'!$AD$86="Leve"),CONCATENATE("R26C",'Mapa final'!$R$86),"") | L32: =IF(AND('Mapa final'!$AB$87="Muy Alta",'Mapa final'!$AD$87="Leve"),CONCATENATE("R26C",'Mapa final'!$R$87),"") | M32: =IF(AND('Mapa final'!$AB$85="Muy Alta",'Mapa final'!$AD$85="Menor"),CONCATENATE("R26C",'Mapa final'!$R$85),"") | N32: =IF(AND('Mapa final'!$AB$86="Muy Alta",'Mapa final'!$AD$86="Menor"),CONCATENATE("R26C",'Mapa final'!$R$86),"") | O32: =IF(AND('Mapa final'!$AB$87="Muy Alta",'Mapa final'!$AD$87="Menor"),CONCATENATE("R26C",'Mapa final'!$R$87),"") | P32: =IF(AND('Mapa final'!$AB$85="Muy Alta",'Mapa final'!$AD$85="Moderado"),CONCATENATE("R26C",'Mapa final'!$R$85),"") | Q32: =IF(AND('Mapa final'!$AB$86="Muy Alta",'Mapa final'!$AD$86="Moderado"),CONCATENATE("R26C",'Mapa final'!$R$86),"") | R32: =IF(AND('Mapa final'!$AB$87="Muy Alta",'Mapa final'!$AD$87="Moderado"),CONCATENATE("R26C",'Mapa final'!$R$87),"") | S32: =IF(AND('Mapa final'!$AB$85="Muy Alta",'Mapa final'!$AD$85="Mayor"),CONCATENATE("R26C",'Mapa final'!$R$85),"") | T32: =IF(AND('Mapa final'!$AB$86="Muy Alta",'Mapa final'!$AD$86="Mayor"),CONCATENATE("R26C",'Mapa final'!$R$86),"") | U32: =IF(AND('Mapa final'!$AB$87="Muy Alta",'Mapa final'!$AD$87="Mayor"),CONCATENATE("R26C",'Mapa final'!$R$87),"") | V32: =IF(AND('Mapa final'!$AB$85="Muy Alta",'Mapa final'!$AD$85="Catastrófico"),CONCATENATE("R26C",'Mapa final'!$R$85),"") | W32: =IF(AND('Mapa final'!$AB$86="Muy Alta",'Mapa final'!$AD$86="Catastrófico"),CONCATENATE("R26C",'Mapa final'!$R$86),"") | X32: =IF(AND('Mapa final'!$AB$87="Muy Alta",'Mapa final'!$AD$87="Catastrófico"),CONCATENATE("R26C",'Mapa final'!$R$87),"")
J33: =IF(AND('Mapa final'!$AB$88="Muy Alta",'Mapa final'!$AD$88="Leve"),CONCATENATE("R27C",'Mapa final'!$R$88),"") | K33: =IF(AND('Mapa final'!$AB$89="Muy Alta",'Mapa final'!$AD$89="Leve"),CONCATENATE("R27C",'Mapa final'!$R$89),"") | L33: =IF(AND('Mapa final'!$AB$90="Muy Alta",'Mapa final'!$AD$90="Leve"),CONCATENATE("R27C",'Mapa final'!$R$90),"") | M33: =IF(AND('Mapa final'!$AB$88="Muy Alta",'Mapa final'!$AD$88="Menor"),CONCATENATE("R27C",'Mapa final'!$R$88),"") | N33: =IF(AND('Mapa final'!$AB$89="Muy Alta",'Mapa final'!$AD$89="Menor"),CONCATENATE("R27C",'Mapa final'!$R$89),"") | O33: =IF(AND('Mapa final'!$AB$90="Muy Alta",'Mapa final'!$AD$90="Menor"),CONCATENATE("R27C",'Mapa final'!$R$90),"") | P33: =IF(AND('Mapa final'!$AB$88="Muy Alta",'Mapa final'!$AD$88="Moderado"),CONCATENATE("R27C",'Mapa final'!$R$88),"") | Q33: =IF(AND('Mapa final'!$AB$89="Muy Alta",'Mapa final'!$AD$89="Moderado"),CONCATENATE("R27C",'Mapa final'!$R$89),"") | R33: =IF(AND('Mapa final'!$AB$90="Muy Alta",'Mapa final'!$AD$90="Moderado"),CONCATENATE("R27C",'Mapa final'!$R$90),"") | S33: =IF(AND('Mapa final'!$AB$88="Muy Alta",'Mapa final'!$AD$88="Mayor"),CONCATENATE("R27C",'Mapa final'!$R$88),"") | T33: =IF(AND('Mapa final'!$AB$89="Muy Alta",'Mapa final'!$AD$89="Mayor"),CONCATENATE("R27C",'Mapa final'!$R$89),"") | U33: =IF(AND('Mapa final'!$AB$90="Muy Alta",'Mapa final'!$AD$90="Mayor"),CONCATENATE("R27C",'Mapa final'!$R$90),"") | V33: =IF(AND('Mapa final'!$AB$88="Muy Alta",'Mapa final'!$AD$88="Catastrófico"),CONCATENATE("R27C",'Mapa final'!$R$88),"") | W33: =IF(AND('Mapa final'!$AB$89="Muy Alta",'Mapa final'!$AD$89="Catastrófico"),CONCATENATE("R27C",'Mapa final'!$R$89),"") | X33: =IF(AND('Mapa final'!$AB$90="Muy Alta",'Mapa final'!$AD$90="Catastrófico"),CONCATENATE("R27C",'Mapa final'!$R$90),"")
J34: =IF(AND('Mapa final'!$AB$91="Muy Alta",'Mapa final'!$AD$91="Leve"),CONCATENATE("R28C",'Mapa final'!$R$91),"") | K34: =IF(AND('Mapa final'!$AB$92="Muy Alta",'Mapa final'!$AD$92="Leve"),CONCATENATE("R28C",'Mapa final'!$R$92),"") | L34: =IF(AND('Mapa final'!$AB$93="Muy Alta",'Mapa final'!$AD$93="Leve"),CONCATENATE("R28C",'Mapa final'!$R$93),"") | M34: =IF(AND('Mapa final'!$AB$91="Muy Alta",'Mapa final'!$AD$91="Menor"),CONCATENATE("R28C",'Mapa final'!$R$91),"") | N34: =IF(AND('Mapa final'!$AB$92="Muy Alta",'Mapa final'!$AD$92="Menor"),CONCATENATE("R28C",'Mapa final'!$R$92),"") | O34: =IF(AND('Mapa final'!$AB$93="Muy Alta",'Mapa final'!$AD$93="Menor"),CONCATENATE("R28C",'Mapa final'!$R$93),"") | P34: =IF(AND('Mapa final'!$AB$91="Muy Alta",'Mapa final'!$AD$91="Moderado"),CONCATENATE("R28C",'Mapa final'!$R$91),"") | Q34: =IF(AND('Mapa final'!$AB$92="Muy Alta",'Mapa final'!$AD$92="Moderado"),CONCATENATE("R28C",'Mapa final'!$R$92),"") | R34: =IF(AND('Mapa final'!$AB$93="Muy Alta",'Mapa final'!$AD$93="Moderado"),CONCATENATE("R28C",'Mapa final'!$R$93),"") | S34: =IF(AND('Mapa final'!$AB$91="Muy Alta",'Mapa final'!$AD$91="Mayor"),CONCATENATE("R28C",'Mapa final'!$R$91),"") | T34: =IF(AND('Mapa final'!$AB$92="Muy Alta",'Mapa final'!$AD$92="Mayor"),CONCATENATE("R28C",'Mapa final'!$R$92),"") | U34: =IF(AND('Mapa final'!$AB$93="Muy Alta",'Mapa final'!$AD$93="Mayor"),CONCATENATE("R28C",'Mapa final'!$R$93),"") | V34: =IF(AND('Mapa final'!$AB$91="Muy Alta",'Mapa final'!$AD$91="Catastrófico"),CONCATENATE("R28C",'Mapa final'!$R$91),"") | W34: =IF(AND('Mapa final'!$AB$92="Muy Alta",'Mapa final'!$AD$92="Catastrófico"),CONCATENATE("R28C",'Mapa final'!$R$92),"") | X34: =IF(AND('Mapa final'!$AB$93="Muy Alta",'Mapa final'!$AD$93="Catastrófico"),CONCATENATE("R28C",'Mapa final'!$R$93),"")
J35: =IF(AND('Mapa final'!$AB$94="Muy Alta",'Mapa final'!$AD$94="Leve"),CONCATENATE("R29C",'Mapa final'!$R$94),"") | K35: =IF(AND('Mapa final'!$AB$95="Muy Alta",'Mapa final'!$AD$95="Leve"),CONCATENATE("R29C",'Mapa final'!$R$95),"") | L35: =IF(AND('Mapa final'!$AB$96="Muy Alta",'Mapa final'!$AD$96="Leve"),CONCATENATE("R29C",'Mapa final'!$R$96),"") | M35: =IF(AND('Mapa final'!$AB$94="Muy Alta",'Mapa final'!$AD$94="Menor"),CONCATENATE("R29C",'Mapa final'!$R$94),"") | N35: =IF(AND('Mapa final'!$AB$95="Muy Alta",'Mapa final'!$AD$95="Menor"),CONCATENATE("R29C",'Mapa final'!$R$95),"") | O35: =IF(AND('Mapa final'!$AB$96="Muy Alta",'Mapa final'!$AD$96="Menor"),CONCATENATE("R29C",'Mapa final'!$R$96),"") | P35: =IF(AND('Mapa final'!$AB$94="Muy Alta",'Mapa final'!$AD$94="Moderado"),CONCATENATE("R29C",'Mapa final'!$R$94),"") | Q35: =IF(AND('Mapa final'!$AB$95="Muy Alta",'Mapa final'!$AD$95="Moderado"),CONCATENATE("R29C",'Mapa final'!$R$95),"") | R35: =IF(AND('Mapa final'!$AB$96="Muy Alta",'Mapa final'!$AD$96="Moderado"),CONCATENATE("R29C",'Mapa final'!$R$96),"") | S35: =IF(AND('Mapa final'!$AB$94="Muy Alta",'Mapa final'!$AD$94="Mayor"),CONCATENATE("R29C",'Mapa final'!$R$94),"") | T35: =IF(AND('Mapa final'!$AB$95="Muy Alta",'Mapa final'!$AD$95="Mayor"),CONCATENATE("R29C",'Mapa final'!$R$95),"") | U35: =IF(AND('Mapa final'!$AB$96="Muy Alta",'Mapa final'!$AD$96="Mayor"),CONCATENATE("R29C",'Mapa final'!$R$96),"") | V35: =IF(AND('Mapa final'!$AB$94="Muy Alta",'Mapa final'!$AD$94="Catastrófico"),CONCATENATE("R29C",'Mapa final'!$R$94),"") | W35: =IF(AND('Mapa final'!$AB$95="Muy Alta",'Mapa final'!$AD$95="Catastrófico"),CONCATENATE("R29C",'Mapa final'!$R$95),"") | X35: =IF(AND('Mapa final'!$AB$96="Muy Alta",'Mapa final'!$AD$96="Catastrófico"),CONCATENATE("R29C",'Mapa final'!$R$96),"")
